BEGIN:VCALENDAR
VERSION:2.0
PRODID:-//Dan McCurley, REALTOR® - ECPv6.15.20//NONSGML v1.0//EN
CALSCALE:GREGORIAN
METHOD:PUBLISH
X-ORIGINAL-URL:https://danmccurley.com
X-WR-CALDESC:Events for Dan McCurley, REALTOR®
REFRESH-INTERVAL;VALUE=DURATION:PT1H
X-Robots-Tag:noindex
X-PUBLISHED-TTL:PT1H
BEGIN:VTIMEZONE
TZID:America/Los_Angeles
BEGIN:DAYLIGHT
TZOFFSETFROM:-0800
TZOFFSETTO:-0700
TZNAME:PDT
DTSTART:20240310T100000
END:DAYLIGHT
BEGIN:STANDARD
TZOFFSETFROM:-0700
TZOFFSETTO:-0800
TZNAME:PST
DTSTART:20241103T090000
END:STANDARD
BEGIN:DAYLIGHT
TZOFFSETFROM:-0800
TZOFFSETTO:-0700
TZNAME:PDT
DTSTART:20250309T100000
END:DAYLIGHT
BEGIN:STANDARD
TZOFFSETFROM:-0700
TZOFFSETTO:-0800
TZNAME:PST
DTSTART:20251102T090000
END:STANDARD
BEGIN:DAYLIGHT
TZOFFSETFROM:-0800
TZOFFSETTO:-0700
TZNAME:PDT
DTSTART:20260308T100000
END:DAYLIGHT
BEGIN:STANDARD
TZOFFSETFROM:-0700
TZOFFSETTO:-0800
TZNAME:PST
DTSTART:20261101T090000
END:STANDARD
END:VTIMEZONE
BEGIN:VEVENT
DTSTART;TZID=America/Los_Angeles:20250820T100000
DTEND;TZID=America/Los_Angeles:20250824T220000
DTSTAMP:20260421T200253
CREATED:20250321T131234Z
LAST-MODIFIED:20250321T133224Z
UID:2495-1755684000-1756072800@danmccurley.com
SUMMARY:Kitsap County Fair & Stampede 2025
DESCRIPTION:Dates\, Times & Location\n\n\n\n\nDates: August 20-24\, 2025\n\n\n\nHours:\n\nWednesday-Saturday: 10am-10pm\n\n\n\nSunday: 10am-7pm\n\n\n\n\n\nLocation: Kitsap County Fairgrounds & Events Center\n\n1200 Fairgrounds Rd NW\, Bremerton\, Washington 98311 (map)\n\n\n\n\n\n\nAdmission\n\n\n\n\nAdults (13-61): $12\n\n\n\nSeniors (62+): $10\n\n\n\nYouth (6-12): $10\n\n\n\nChildren (5 & under): Free\n\n\n\nMilitary/Veterans (with ID): $10\n\n\n\nSeason Pass: $33\n\n\n\nParking: $10 per day\n\n\n\n\nFeatured Attractions\n\n\n\n\nPRCA Rodeo: Wednesday-Saturday evenings\n\n\n\nCarnival Rides & Games: All days (separate tickets required)\n\n\n\nLive Entertainment: Various stages throughout fair\n\n\n\n4-H & FFA Exhibitions: Animal shows and competitions\n\n\n\nDemolition Derby: Sunday afternoon\n\n\n\nVendors & Food Court: Local crafts and cuisine\n\n\n\n\nSpecial Days\n\n\n\n\nWednesday: Opening Day\n\n\n\nThursday: Military Appreciation Day\n\n\n\nSunday: Family Day (special pricing on carnival rides)\n\n\n\n\nAdditional Information\n\n\n\n\nNo pets allowed (service animals excepted)\n\n\n\nCarnival wristbands available for unlimited rides\n\n\n\nATMs located throughout the fairgrounds\n\n\n\nAccessible seating available at all grandstand events
URL:https://danmccurley.com/event/kitsap-county-fair-stampede-2025/
LOCATION:Kitsap County Fairgrounds & Events Center\, 1200 Fairgrounds Rd NW\, Bremerton\, Washington\, 98311\, United States
CATEGORIES:Community Event
ATTACH;FMTTYPE=image/png:https://danmccurley.com/wp-content/uploads/kitsap-county-fair-and-stampede.png
END:VEVENT
END:VCALENDAR