BEGIN:VCALENDAR
VERSION:2.0
PRODID:-//Dan McCurley, REALTOR® - ECPv6.15.20//NONSGML v1.0//EN
CALSCALE:GREGORIAN
METHOD:PUBLISH
X-ORIGINAL-URL:https://danmccurley.com
X-WR-CALDESC:Events for Dan McCurley, REALTOR®
REFRESH-INTERVAL;VALUE=DURATION:PT1H
X-Robots-Tag:noindex
X-PUBLISHED-TTL:PT1H
BEGIN:VTIMEZONE
TZID:America/Los_Angeles
BEGIN:DAYLIGHT
TZOFFSETFROM:-0800
TZOFFSETTO:-0700
TZNAME:PDT
DTSTART:20240310T100000
END:DAYLIGHT
BEGIN:STANDARD
TZOFFSETFROM:-0700
TZOFFSETTO:-0800
TZNAME:PST
DTSTART:20241103T090000
END:STANDARD
BEGIN:DAYLIGHT
TZOFFSETFROM:-0800
TZOFFSETTO:-0700
TZNAME:PDT
DTSTART:20250309T100000
END:DAYLIGHT
BEGIN:STANDARD
TZOFFSETFROM:-0700
TZOFFSETTO:-0800
TZNAME:PST
DTSTART:20251102T090000
END:STANDARD
BEGIN:DAYLIGHT
TZOFFSETFROM:-0800
TZOFFSETTO:-0700
TZNAME:PDT
DTSTART:20260308T100000
END:DAYLIGHT
BEGIN:STANDARD
TZOFFSETFROM:-0700
TZOFFSETTO:-0800
TZNAME:PST
DTSTART:20261101T090000
END:STANDARD
END:VTIMEZONE
BEGIN:VEVENT
DTSTART;TZID=America/Los_Angeles:20250712T080000
DTEND;TZID=America/Los_Angeles:20250712T140000
DTSTAMP:20260421T214733
CREATED:20250321T130419Z
LAST-MODIFIED:20250321T130420Z
UID:1755-1752307200-1752328800@danmccurley.com
SUMMARY:2025 Bainbridge Rotary Auction & Rummage Sale
DESCRIPTION:The Rotary Auction on Bainbridge Island is the largest rummage sale you’ll ever visit! Volunteers transform Woodward Middle School into a truly massive collection of donated furniture\, cars and boats\, clothes\, electronics\, tools and equipment\, camping and recreation\, baby gear\, and more. The auction and rummage sale typically begins with a “mad dash” — and shoppers can even enjoy lunch along the way. The sale is so big that they offer a preview night the evening before it opens. It’s a fun event you won’t want to miss! \n\n\n\nIn addition to offering great deals on thousands of items\, the rummage sale is for a good cause! 100% of the net proceeds from the Rotary Auction & Rummage Sale are reinvested in the community for special grants\, projects\, and scholarships.
URL:https://danmccurley.com/event/bainbridge-rotary-auction-rummage-sale/
LOCATION:Woodward Middle School\, 9125 Sportsman Club Rd NE\, Bainbridge Island\, 98110\, United States
CATEGORIES:Community Event
ATTACH;FMTTYPE=image/jpeg:https://danmccurley.com/wp-content/uploads/bainbridge-island-rotary-auction.jpg
ORGANIZER;CN="Rotary Club of Bainbridge Island":MAILTO:RotaryAuction@BainbridgeIslandRotary.org
END:VEVENT
BEGIN:VEVENT
DTSTART;TZID=America/Los_Angeles:20250725T000000
DTEND;TZID=America/Los_Angeles:20250727T235900
DTSTAMP:20260421T214733
CREATED:20250321T130825Z
LAST-MODIFIED:20250321T130830Z
UID:2265-1753401600-1753660740@danmccurley.com
SUMMARY:Whaling Days 2025 in Silverdale
DESCRIPTION:Whaling Days is a free\, family-oriented annual festival held in Silverdale\, WA. It takes place in the last full weekend of July each year. This 3-day festival includes a grand parade\, a fireworks show\, a rubber duck race\, canoe races and foot races\, street vendors and live music\, a beer and wine garden\, and all kinds of entertainment. \nWhaling Days also gives back to the community by donating proceeds to local charities and scholarships for Central Kitsap School District.
URL:https://danmccurley.com/event/whaling-days-in-silverdale/
LOCATION:Silverdale Waterfront Park\, 3337 NW Byron St\, Silverdale\, Washington\, 98383\, United States
CATEGORIES:Community Event
ATTACH;FMTTYPE=image/jpeg:https://danmccurley.com/wp-content/uploads/whaling-days.jpg
END:VEVENT
END:VCALENDAR